BEGIN:VCALENDAR
VERSION:2.0
PRODID:-//StreamRadar//Match Calendar//EN
CALSCALE:GREGORIAN
METHOD:PUBLISH
X-WR-CALNAME:Lexington vs Indy Eleven
X-WR-TIMEZONE:America/New_York
BEGIN:VEVENT
UID:match-5620912@streamradar.soccer
SUMMARY:Lexington vs Indy Eleven
DTSTAMP:20260425T235738Z
DTSTART;TZID=America/New_York:20260620T190000
DTEND;TZID=America/New_York:20260620T210000
LOCATION:Toyota Stadium
DESCRIPTION:Gde gledati Lexington protiv Indy Eleven u takmičenju Sjedinje
 ne Države - USL kup. Prenos uživo i TV program.\nhttps://streamradar.socc
 er/sr/match/5620912/lexington-vs-indy-eleven/
URL;VALUE=URI:https://streamradar.soccer/sr/match/5620912/lexington-vs-indy
 -eleven/
STATUS:CONFIRMED
END:VEVENT
END:VCALENDAR
