BEGIN:VCALENDAR
VERSION:2.0
PRODID:-//StreamRadar//Match Calendar//EN
CALSCALE:GREGORIAN
METHOD:PUBLISH
X-WR-CALNAME:Roma vs Ternana
X-WR-TIMEZONE:America/New_York
BEGIN:VEVENT
UID:match-5620207@streamradar.soccer
SUMMARY:Roma vs Ternana
DTSTAMP:20260424T161047Z
DTSTART;TZID=America/New_York:20260502T123000
DTEND;TZID=America/New_York:20260502T143000
LOCATION:Stadio Tre Fontane
DESCRIPTION:Gde gledati Roma protiv Ternana u takmičenju Serie A (žene). 
 Prenos uživo i TV program.\nhttps://streamradar.soccer/sr/match/5620207/ro
 ma-vs-ternana/
URL;VALUE=URI:https://streamradar.soccer/sr/match/5620207/roma-vs-ternana/
STATUS:CONFIRMED
END:VEVENT
END:VCALENDAR
