BEGIN:VCALENDAR
VERSION:2.0
PRODID:-//StreamRadar//Match Calendar//EN
CALSCALE:GREGORIAN
METHOD:PUBLISH
X-WR-CALNAME:Çorluspor 1947 vs Bursa Yıldırımspor
X-WR-TIMEZONE:America/New_York
BEGIN:VEVENT
UID:match-5620198@streamradar.soccer
SUMMARY:Çorluspor 1947 vs Bursa Yıldırımspor
DTSTAMP:20260424T121612Z
DTSTART;TZID=America/New_York:20260427T090000
DTEND;TZID=America/New_York:20260427T110000
LOCATION:General Basri Saran Stadyumu (Çorlu)
DESCRIPTION:Gde gledati Çorluspor 1947 protiv Bursa Yıldırımspor u takm
 ičenju Turska - 3. Lig. Prenos uživo i TV program.\nhttps://streamradar.s
 occer/sr/match/5620198/corluspor-1947-vs-bursa-yldrmspor/
URL;VALUE=URI:https://streamradar.soccer/sr/match/5620198/corluspor-1947-vs
 -bursa-yldrmspor/
STATUS:CONFIRMED
END:VEVENT
END:VCALENDAR
