BEGIN:VCALENDAR
VERSION:2.0
PRODID:-//StreamRadar//Match Calendar//EN
CALSCALE:GREGORIAN
METHOD:PUBLISH
X-WR-CALNAME:Hunters vs Ulaanbaatar
X-WR-TIMEZONE:America/New_York
BEGIN:VEVENT
UID:match-5619676@streamradar.soccer
SUMMARY:Hunters vs Ulaanbaatar
DTSTAMP:20260423T140423Z
DTSTART;TZID=America/New_York:20260520T060000
DTEND;TZID=America/New_York:20260520T080000
DESCRIPTION:Gde gledati Hunters protiv Ulaanbaatar u takmičenju Mongolija 
 - Premijer liga Mongoija. Prenos uživo i TV program.\nhttps://streamradar.
 soccer/sr/match/5619676/hunters-vs-ulaanbaatar/
URL;VALUE=URI:https://streamradar.soccer/sr/match/5619676/hunters-vs-ulaanb
 aatar/
STATUS:CONFIRMED
END:VEVENT
END:VCALENDAR
