BEGIN:VCALENDAR
VERSION:2.0
PRODID:-//StreamRadar//Match Calendar//EN
CALSCALE:GREGORIAN
METHOD:PUBLISH
X-WR-CALNAME:West Chester United vs Delaware FC
X-WR-TIMEZONE:America/New_York
BEGIN:VEVENT
UID:match-5619611@streamradar.soccer
SUMMARY:West Chester United vs Delaware FC
DTSTAMP:20260424T041930Z
DTSTART;TZID=America/New_York:20260521T200000
DTEND;TZID=America/New_York:20260521T220000
DESCRIPTION:Gde gledati West Chester United protiv Delaware FC u takmičenj
 u USL League Two. Prenos uživo i TV program.\nhttps://streamradar.soccer/s
 r/match/5619611/west-chester-united-vs-delaware-fc/
URL;VALUE=URI:https://streamradar.soccer/sr/match/5619611/west-chester-unit
 ed-vs-delaware-fc/
STATUS:CONFIRMED
END:VEVENT
END:VCALENDAR
