BEGIN:VCALENDAR
VERSION:2.0
PRODID:-//StreamRadar//Match Calendar//EN
CALSCALE:GREGORIAN
METHOD:PUBLISH
X-WR-CALNAME:Ravshan vs Regar-TadAZ
X-WR-TIMEZONE:America/New_York
BEGIN:VEVENT
UID:match-5619585@streamradar.soccer
SUMMARY:Ravshan vs Regar-TadAZ
DTSTAMP:20260425T162329Z
DTSTART;TZID=America/New_York:20260522T090000
DTEND;TZID=America/New_York:20260522T110000
DESCRIPTION:Gde gledati Ravshan protiv Regar-TadAZ u takmičenju Tadžikist
 an - Tajik League. Prenos uživo i TV program.\nhttps://streamradar.soccer/
 sr/match/5619585/ravshan-vs-regar-tadaz/
URL;VALUE=URI:https://streamradar.soccer/sr/match/5619585/ravshan-vs-regar-
 tadaz/
STATUS:CONFIRMED
END:VEVENT
END:VCALENDAR
