BEGIN:VCALENDAR
VERSION:2.0
PRODID:-//StreamRadar//Match Calendar//EN
CALSCALE:GREGORIAN
METHOD:PUBLISH
X-WR-CALNAME:Union Plaani vs Lahti
X-WR-TIMEZONE:America/New_York
BEGIN:VEVENT
UID:match-5619554@streamradar.soccer
SUMMARY:Union Plaani vs Lahti
DTSTAMP:20260423T140722Z
DTSTART;TZID=America/New_York:20260429T090000
DTEND;TZID=America/New_York:20260429T110000
LOCATION:Urheilupuisto N
DESCRIPTION:Gde gledati Union Plaani protiv Lahti u takmičenju Finska - Su
 omen kup. Prenos uživo i TV program.\nhttps://streamradar.soccer/sr/match/
 5619554/union-plaani-vs-lahti/
URL;VALUE=URI:https://streamradar.soccer/sr/match/5619554/union-plaani-vs-l
 ahti/
STATUS:CONFIRMED
END:VEVENT
END:VCALENDAR
