BEGIN:VCALENDAR
VERSION:2.0
PRODID:-//StreamRadar//Match Calendar//EN
CALSCALE:GREGORIAN
METHOD:PUBLISH
X-WR-CALNAME:Vaprus vs Levadia
X-WR-TIMEZONE:America/New_York
BEGIN:VEVENT
UID:match-5619514@streamradar.soccer
SUMMARY:Vaprus vs Levadia
DTSTAMP:20260423T130429Z
DTSTART;TZID=America/New_York:20260520T120000
DTEND;TZID=America/New_York:20260520T140000
LOCATION:Parnu Rannastaadion
DESCRIPTION:Gde gledati Vaprus protiv Levadia u takmičenju Estonija - Meis
 triliiga. Prenos uživo i TV program.\nhttps://streamradar.soccer/sr/match/
 5619514/vaprus-vs-levadia/
URL;VALUE=URI:https://streamradar.soccer/sr/match/5619514/vaprus-vs-levadia
 /
STATUS:CONFIRMED
END:VEVENT
END:VCALENDAR
