BEGIN:VCALENDAR
VERSION:2.0
PRODID:-//StreamRadar//Match Calendar//EN
CALSCALE:GREGORIAN
METHOD:PUBLISH
X-WR-CALNAME:Ufa vs Rotor Volgograd
X-WR-TIMEZONE:America/New_York
BEGIN:VEVENT
UID:match-5619499@streamradar.soccer
SUMMARY:Ufa vs Rotor Volgograd
DTSTAMP:20260424T040705Z
DTSTART;TZID=America/New_York:20260510T030000
DTEND;TZID=America/New_York:20260510T050000
LOCATION:BetBoom Arena
DESCRIPTION:Gde gledati Ufa protiv Rotor Volgograd u takmičenju Rusija - F
 udbalska Nacionalna Liga. Prenos uživo i TV program.\nhttps://streamradar.
 soccer/sr/match/5619499/ufa-vs-rotor-volgograd/
URL;VALUE=URI:https://streamradar.soccer/sr/match/5619499/ufa-vs-rotor-volg
 ograd/
STATUS:CONFIRMED
END:VEVENT
END:VCALENDAR
