BEGIN:VCALENDAR
VERSION:2.0
PRODID:-//StreamRadar//Match Calendar//EN
CALSCALE:GREGORIAN
METHOD:PUBLISH
X-WR-CALNAME:Gomora United vs Midlands Wand.
X-WR-TIMEZONE:America/New_York
BEGIN:VEVENT
UID:match-5619492@streamradar.soccer
SUMMARY:Gomora United vs Midlands Wand.
DTSTAMP:20260423T110801Z
DTSTART;TZID=America/New_York:20260506T090000
DTEND;TZID=America/New_York:20260506T110000
DESCRIPTION:Gde gledati Gomora United protiv Midlands Wand. u takmičenju J
 užna Afrika - National First Division. Prenos uživo i TV program.\nhttps:
 //streamradar.soccer/sr/match/5619492/gomora-united-vs-midlands-wand/
URL;VALUE=URI:https://streamradar.soccer/sr/match/5619492/gomora-united-vs-
 midlands-wand/
STATUS:CONFIRMED
END:VEVENT
END:VCALENDAR
