BEGIN:VCALENDAR
VERSION:2.0
PRODID:-//StreamRadar//Match Calendar//EN
CALSCALE:GREGORIAN
METHOD:PUBLISH
X-WR-CALNAME:Blooming vs Carabobo
X-WR-TIMEZONE:America/New_York
BEGIN:VEVENT
UID:match-5619476@streamradar.soccer
SUMMARY:Blooming vs Carabobo
DTSTAMP:20260423T141154Z
DTSTART;TZID=America/New_York:20260521T203000
DTEND;TZID=America/New_York:20260521T223000
LOCATION:Estadio Ramon Tahuichi Aguilera Costas
DESCRIPTION:Gde gledati Blooming protiv Carabobo u takmičenju Copa Sudamer
 icana. Prenos uživo i TV program.\nhttps://streamradar.soccer/sr/match/561
 9476/blooming-vs-carabobo/
URL;VALUE=URI:https://streamradar.soccer/sr/match/5619476/blooming-vs-carab
 obo/
STATUS:CONFIRMED
END:VEVENT
END:VCALENDAR
