BEGIN:VCALENDAR
VERSION:2.0
PRODID:-//StreamRadar//Match Calendar//EN
CALSCALE:GREGORIAN
METHOD:PUBLISH
X-WR-CALNAME:Ulaangom City vs Hunters
X-WR-TIMEZONE:America/New_York
BEGIN:VEVENT
UID:match-5618993@streamradar.soccer
SUMMARY:Ulaangom City vs Hunters
DTSTAMP:20260422T120930Z
DTSTART;TZID=America/New_York:20260502T060000
DTEND;TZID=America/New_York:20260502T080000
DESCRIPTION:Gde gledati Ulaangom City protiv Hunters u takmičenju Mongolij
 a - Premijer liga Mongoija. Prenos uživo i TV program.\nhttps://streamrada
 r.soccer/sr/match/5618993/ulaangom-city-vs-hunters/
URL;VALUE=URI:https://streamradar.soccer/sr/match/5618993/ulaangom-city-vs-
 hunters/
STATUS:CONFIRMED
END:VEVENT
END:VCALENDAR
