BEGIN:VCALENDAR
VERSION:2.0
PRODID:-//StreamRadar//Match Calendar//EN
CALSCALE:GREGORIAN
METHOD:PUBLISH
X-WR-CALNAME:Minnesota United II vs St. Louis City II
X-WR-TIMEZONE:America/New_York
BEGIN:VEVENT
UID:match-5618972@streamradar.soccer
SUMMARY:Minnesota United II vs St. Louis City II
DTSTAMP:20260422T113835Z
DTSTART;TZID=America/New_York:20260502T160000
DTEND;TZID=America/New_York:20260502T180000
LOCATION:Allianz Field
DESCRIPTION:Gde gledati Minnesota United II protiv St. Louis City II u takm
 ičenju MLS Next Pro. Prenos uživo i TV program.\nhttps://streamradar.socc
 er/sr/match/5618972/minnesota-united-ii-vs-st-louis-city-ii/
URL;VALUE=URI:https://streamradar.soccer/sr/match/5618972/minnesota-united-
 ii-vs-st-louis-city-ii/
STATUS:CONFIRMED
END:VEVENT
END:VCALENDAR
