BEGIN:VCALENDAR
VERSION:2.0
PRODID:-//StreamRadar//Match Calendar//EN
CALSCALE:GREGORIAN
METHOD:PUBLISH
X-WR-CALNAME:Torreense Feminino vs Racing Power Feminino
X-WR-TIMEZONE:America/New_York
BEGIN:VEVENT
UID:match-5618961@streamradar.soccer
SUMMARY:Torreense Feminino vs Racing Power Feminino
DTSTAMP:20260422T143418Z
DTSTART;TZID=America/New_York:20260426T100000
DTEND;TZID=America/New_York:20260426T120000
LOCATION:Estadio Manuel Marques
DESCRIPTION:Gde gledati Torreense Feminino protiv Racing Power Feminino u t
 akmičenju Portugal - Nacionalno žensko prvenstvo Portugala. Prenos uživo
  i TV program.\nhttps://streamradar.soccer/sr/match/5618961/torreense-femin
 ino-vs-racing-power-feminino/
URL;VALUE=URI:https://streamradar.soccer/sr/match/5618961/torreense-feminin
 o-vs-racing-power-feminino/
STATUS:CONFIRMED
END:VEVENT
END:VCALENDAR
