BEGIN:VCALENDAR
VERSION:2.0
PRODID:-//StreamRadar//Match Calendar//EN
CALSCALE:GREGORIAN
METHOD:PUBLISH
X-WR-CALNAME:Rizhao Yuqi vs Meizhou Hakka
X-WR-TIMEZONE:America/New_York
BEGIN:VEVENT
UID:match-5618925@streamradar.soccer
SUMMARY:Rizhao Yuqi vs Meizhou Hakka
DTSTAMP:20260423T211904Z
DTSTART;TZID=America/New_York:20260515T030000
DTEND;TZID=America/New_York:20260515T050000
LOCATION:Lanzhou Olympic Center Stadium
DESCRIPTION:Gde gledati Rizhao Yuqi protiv Meizhou Hakka u takmičenju FA C
 up. Prenos uživo i TV program.\nhttps://streamradar.soccer/sr/match/561892
 5/rizhao-yuqi-vs-meizhou-hakka/
URL;VALUE=URI:https://streamradar.soccer/sr/match/5618925/rizhao-yuqi-vs-me
 izhou-hakka/
STATUS:CONFIRMED
END:VEVENT
END:VCALENDAR
