BEGIN:VCALENDAR
VERSION:2.0
PRODID:-//StreamRadar//Match Calendar//EN
CALSCALE:GREGORIAN
METHOD:PUBLISH
X-WR-CALNAME:Orapa United vs Centre Chiefs
X-WR-TIMEZONE:America/New_York
BEGIN:VEVENT
UID:match-5618883@streamradar.soccer
SUMMARY:Orapa United vs Centre Chiefs
DTSTAMP:20260422T113558Z
DTSTART;TZID=America/New_York:20260425T093000
DTEND;TZID=America/New_York:20260425T113000
DESCRIPTION:Gde gledati Orapa United protiv Centre Chiefs u takmičenju Boc
 vana - Premier liga Botsvane. Prenos uživo i TV program.\nhttps://streamra
 dar.soccer/sr/match/5618883/orapa-united-vs-centre-chiefs/
URL;VALUE=URI:https://streamradar.soccer/sr/match/5618883/orapa-united-vs-c
 entre-chiefs/
STATUS:CONFIRMED
END:VEVENT
END:VCALENDAR
