BEGIN:VCALENDAR
VERSION:2.0
PRODID:-//StreamRadar//Match Calendar//EN
CALSCALE:GREGORIAN
METHOD:PUBLISH
X-WR-CALNAME:Havadar vs Sanat Naft
X-WR-TIMEZONE:America/New_York
BEGIN:VEVENT
UID:match-5618864@streamradar.soccer
SUMMARY:Havadar vs Sanat Naft
DTSTAMP:20260422T110030Z
DTSTART;TZID=America/New_York:20260521T091500
DTEND;TZID=America/New_York:20260521T111500
LOCATION:Shahid Dastgerdi Stadium
DESCRIPTION:Gde gledati Havadar protiv Sanat Naft u takmičenju Iran - Azad
 egan Liga. Prenos uživo i TV program.\nhttps://streamradar.soccer/sr/match
 /5618864/havadar-vs-sanat-naft/
URL;VALUE=URI:https://streamradar.soccer/sr/match/5618864/havadar-vs-sanat-
 naft/
STATUS:CONFIRMED
END:VEVENT
END:VCALENDAR
