BEGIN:VCALENDAR
VERSION:2.0
PRODID:-//StreamRadar//Match Calendar//EN
CALSCALE:GREGORIAN
METHOD:PUBLISH
X-WR-CALNAME:Mes Soongoun vs Naft Bandar Abbas
X-WR-TIMEZONE:America/New_York
BEGIN:VEVENT
UID:match-5618861@streamradar.soccer
SUMMARY:Mes Soongoun vs Naft Bandar Abbas
DTSTAMP:20260422T110158Z
DTSTART;TZID=America/New_York:20260521T083000
DTEND;TZID=America/New_York:20260521T103000
DESCRIPTION:Gde gledati Mes Soongoun protiv Naft Bandar Abbas u takmičenju
  Iran - Azadegan Liga. Prenos uživo i TV program.\nhttps://streamradar.soc
 cer/sr/match/5618861/mes-soongoun-vs-naft-bandar-abbas/
URL;VALUE=URI:https://streamradar.soccer/sr/match/5618861/mes-soongoun-vs-n
 aft-bandar-abbas/
STATUS:CONFIRMED
END:VEVENT
END:VCALENDAR
