BEGIN:VCALENDAR
VERSION:2.0
PRODID:-//StreamRadar//Match Calendar//EN
CALSCALE:GREGORIAN
METHOD:PUBLISH
X-WR-CALNAME:Klaipėdos FM vs Be1 NFA
X-WR-TIMEZONE:America/New_York
BEGIN:VEVENT
UID:match-5618838@streamradar.soccer
SUMMARY:Klaipėdos FM vs Be1 NFA
DTSTAMP:20260422T181627Z
DTSTART;TZID=America/New_York:20260428T120000
DTEND;TZID=America/New_York:20260428T140000
DESCRIPTION:Gde gledati Klaipėdos FM protiv Be1 NFA u takmičenju Litvanij
 a - LFF Kupa. Prenos uživo i TV program.\nhttps://streamradar.soccer/sr/ma
 tch/5618838/klaip-dos-fm-vs-be1-nfa/
URL;VALUE=URI:https://streamradar.soccer/sr/match/5618838/klaip-dos-fm-vs-b
 e1-nfa/
STATUS:CONFIRMED
END:VEVENT
END:VCALENDAR
