BEGIN:VCALENDAR
VERSION:2.0
PRODID:-//StreamRadar//Match Calendar//EN
CALSCALE:GREGORIAN
METHOD:PUBLISH
X-WR-CALNAME:Sveikata vs Kauno Žalgiris
X-WR-TIMEZONE:America/New_York
BEGIN:VEVENT
UID:match-5618837@streamradar.soccer
SUMMARY:Sveikata vs Kauno Žalgiris
DTSTAMP:20260423T140547Z
DTSTART;TZID=America/New_York:20260428T110000
DTEND;TZID=America/New_York:20260428T130000
LOCATION:Kybartų miesto stadionas (Kybartai)
DESCRIPTION:Gde gledati Sveikata protiv Kauno Žalgiris u takmičenju Litva
 nija - LFF Kupa. Prenos uživo i TV program.\nhttps://streamradar.soccer/sr
 /match/5618837/sveikata-vs-kauno-zalgiris/
URL;VALUE=URI:https://streamradar.soccer/sr/match/5618837/sveikata-vs-kauno
 -zalgiris/
STATUS:CONFIRMED
END:VEVENT
END:VCALENDAR
