BEGIN:VCALENDAR
VERSION:2.0
PRODID:-//StreamRadar//Match Calendar//EN
CALSCALE:GREGORIAN
METHOD:PUBLISH
X-WR-CALNAME:Maccabi Petah Tikva vs Hapoel Rishon LeZion
X-WR-TIMEZONE:America/New_York
BEGIN:VEVENT
UID:match-5618818@streamradar.soccer
SUMMARY:Maccabi Petah Tikva vs Hapoel Rishon LeZion
DTSTAMP:20260423T123901Z
DTSTART;TZID=America/New_York:20260511T120000
DTEND;TZID=America/New_York:20260511T140000
LOCATION:HaMoshava Stadium
DESCRIPTION:Gde gledati Maccabi Petah Tikva protiv Hapoel Rishon LeZion u t
 akmičenju Izrael - Liga Leumit. Prenos uživo i TV program.\nhttps://strea
 mradar.soccer/sr/match/5618818/maccabi-petah-tikva-vs-hapoel-rishon-lezion/
URL;VALUE=URI:https://streamradar.soccer/sr/match/5618818/maccabi-petah-tik
 va-vs-hapoel-rishon-lezion/
STATUS:CONFIRMED
END:VEVENT
END:VCALENDAR
