BEGIN:VCALENDAR
VERSION:2.0
PRODID:-//StreamRadar//Match Calendar//EN
CALSCALE:GREGORIAN
METHOD:PUBLISH
X-WR-CALNAME:Hapoel Kfar Saba vs Kiryat Yam SC
X-WR-TIMEZONE:America/New_York
BEGIN:VEVENT
UID:match-5618817@streamradar.soccer
SUMMARY:Hapoel Kfar Saba vs Kiryat Yam SC
DTSTAMP:20260422T143421Z
DTSTART;TZID=America/New_York:20260511T120000
DTEND;TZID=America/New_York:20260511T140000
DESCRIPTION:Gde gledati Hapoel Kfar Saba protiv Kiryat Yam SC u takmičenju
  Izrael - Liga Leumit. Prenos uživo i TV program.\nhttps://streamradar.soc
 cer/sr/match/5618817/hapoel-kfar-saba-vs-kiryat-yam-sc/
URL;VALUE=URI:https://streamradar.soccer/sr/match/5618817/hapoel-kfar-saba-
 vs-kiryat-yam-sc/
STATUS:CONFIRMED
END:VEVENT
END:VCALENDAR
