BEGIN:VCALENDAR
VERSION:2.0
PRODID:-//StreamRadar//Match Calendar//EN
CALSCALE:GREGORIAN
METHOD:PUBLISH
X-WR-CALNAME:Maccabi Herzliya vs Hapoel Ramat Gan
X-WR-TIMEZONE:America/New_York
BEGIN:VEVENT
UID:match-5618816@streamradar.soccer
SUMMARY:Maccabi Herzliya vs Hapoel Ramat Gan
DTSTAMP:20260422T101118Z
DTSTART;TZID=America/New_York:20260508T090000
DTEND;TZID=America/New_York:20260508T110000
DESCRIPTION:Gde gledati Maccabi Herzliya protiv Hapoel Ramat Gan u takmiče
 nju Izrael - Liga Leumit. Prenos uživo i TV program.\nhttps://streamradar.
 soccer/sr/match/5618816/maccabi-herzliya-vs-hapoel-ramat-gan/
URL;VALUE=URI:https://streamradar.soccer/sr/match/5618816/maccabi-herzliya-
 vs-hapoel-ramat-gan/
STATUS:CONFIRMED
END:VEVENT
END:VCALENDAR
