BEGIN:VCALENDAR
VERSION:2.0
PRODID:-//StreamRadar//Match Calendar//EN
CALSCALE:GREGORIAN
METHOD:PUBLISH
X-WR-CALNAME:Kiryat Yam SC vs Hapoel Ramat Gan
X-WR-TIMEZONE:America/New_York
BEGIN:VEVENT
UID:match-5618809@streamradar.soccer
SUMMARY:Kiryat Yam SC vs Hapoel Ramat Gan
DTSTAMP:20260422T143423Z
DTSTART;TZID=America/New_York:20260501T090000
DTEND;TZID=America/New_York:20260501T110000
DESCRIPTION:Gde gledati Kiryat Yam SC protiv Hapoel Ramat Gan u takmičenju
  Izrael - Liga Leumit. Prenos uživo i TV program.\nhttps://streamradar.soc
 cer/sr/match/5618809/kiryat-yam-sc-vs-hapoel-ramat-gan/
URL;VALUE=URI:https://streamradar.soccer/sr/match/5618809/kiryat-yam-sc-vs-
 hapoel-ramat-gan/
STATUS:CONFIRMED
END:VEVENT
END:VCALENDAR
