BEGIN:VCALENDAR
VERSION:2.0
PRODID:-//StreamRadar//Match Calendar//EN
CALSCALE:GREGORIAN
METHOD:PUBLISH
X-WR-CALNAME:Ironi Modi'in vs Maccabi Kabilio Jaffa
X-WR-TIMEZONE:America/New_York
BEGIN:VEVENT
UID:match-5618793@streamradar.soccer
SUMMARY:Ironi Modi'in vs Maccabi Kabilio Jaffa
DTSTAMP:20260422T113718Z
DTSTART;TZID=America/New_York:20260508T090000
DTEND;TZID=America/New_York:20260508T110000
DESCRIPTION:Gde gledati Ironi Modi'in protiv Maccabi Kabilio Jaffa u takmi
 enju Izrael - Liga Leumit. Prenos uživo i TV program.\nhttps://streamrada
 r.soccer/sr/match/5618793/ironi-modiin-vs-maccabi-kabilio-jaffa/
URL;VALUE=URI:https://streamradar.soccer/sr/match/5618793/ironi-modiin-vs-m
 accabi-kabilio-jaffa/
STATUS:CONFIRMED
END:VEVENT
END:VCALENDAR
