BEGIN:VCALENDAR
VERSION:2.0
PRODID:-//StreamRadar//Match Calendar//EN
CALSCALE:GREGORIAN
METHOD:PUBLISH
X-WR-CALNAME:Maccabi Kabilio Jaffa vs Hapoel Nazareth Illit
X-WR-TIMEZONE:America/New_York
BEGIN:VEVENT
UID:match-5618788@streamradar.soccer
SUMMARY:Maccabi Kabilio Jaffa vs Hapoel Nazareth Illit
DTSTAMP:20260422T101114Z
DTSTART;TZID=America/New_York:20260504T120000
DTEND;TZID=America/New_York:20260504T140000
DESCRIPTION:Gde gledati Maccabi Kabilio Jaffa protiv Hapoel Nazareth Illit 
 u takmičenju Izrael - Liga Leumit. Prenos uživo i TV program.\nhttps://st
 reamradar.soccer/sr/match/5618788/maccabi-kabilio-jaffa-vs-hapoel-nazareth-
 illit/
URL;VALUE=URI:https://streamradar.soccer/sr/match/5618788/maccabi-kabilio-j
 affa-vs-hapoel-nazareth-illit/
STATUS:CONFIRMED
END:VEVENT
END:VCALENDAR
