BEGIN:VCALENDAR
VERSION:2.0
PRODID:-//StreamRadar//Match Calendar//EN
CALSCALE:GREGORIAN
METHOD:PUBLISH
X-WR-CALNAME:Kafr Qasim vs Hapoel Hadera
X-WR-TIMEZONE:America/New_York
BEGIN:VEVENT
UID:match-5618782@streamradar.soccer
SUMMARY:Kafr Qasim vs Hapoel Hadera
DTSTAMP:20260422T113705Z
DTSTART;TZID=America/New_York:20260424T090000
DTEND;TZID=America/New_York:20260424T110000
DESCRIPTION:Gde gledati Kafr Qasim protiv Hapoel Hadera u takmičenju Izrae
 l - Liga Leumit. Prenos uživo i TV program.\nhttps://streamradar.soccer/sr
 /match/5618782/kafr-qasim-vs-hapoel-hadera/
URL;VALUE=URI:https://streamradar.soccer/sr/match/5618782/kafr-qasim-vs-hap
 oel-hadera/
STATUS:CONFIRMED
END:VEVENT
END:VCALENDAR
