BEGIN:VCALENDAR
VERSION:2.0
PRODID:-//StreamRadar//Match Calendar//EN
CALSCALE:GREGORIAN
METHOD:PUBLISH
X-WR-CALNAME:Hapoel Ra'anana vs Hapoel Nazareth Illit
X-WR-TIMEZONE:America/New_York
BEGIN:VEVENT
UID:match-5618780@streamradar.soccer
SUMMARY:Hapoel Ra'anana vs Hapoel Nazareth Illit
DTSTAMP:20260422T101120Z
DTSTART;TZID=America/New_York:20260424T090000
DTEND;TZID=America/New_York:20260424T110000
DESCRIPTION:Gde gledati Hapoel Ra'anana protiv Hapoel Nazareth Illit u takm
 ičenju Izrael - Liga Leumit. Prenos uživo i TV program.\nhttps://streamra
 dar.soccer/sr/match/5618780/hapoel-raanana-vs-hapoel-nazareth-illit/
URL;VALUE=URI:https://streamradar.soccer/sr/match/5618780/hapoel-raanana-vs
 -hapoel-nazareth-illit/
STATUS:CONFIRMED
END:VEVENT
END:VCALENDAR
