BEGIN:VCALENDAR
VERSION:2.0
PRODID:-//StreamRadar//Match Calendar//EN
CALSCALE:GREGORIAN
METHOD:PUBLISH
X-WR-CALNAME:Tammeka vs Flora
X-WR-TIMEZONE:America/New_York
BEGIN:VEVENT
UID:match-5618733@streamradar.soccer
SUMMARY:Tammeka vs Flora
DTSTAMP:20260422T124057Z
DTSTART;TZID=America/New_York:20260519T120000
DTEND;TZID=America/New_York:20260519T140000
LOCATION:Tamme Stadium
DESCRIPTION:Gde gledati Tammeka protiv Flora u takmičenju Estonija - Meist
 riliiga. Prenos uživo i TV program.\nhttps://streamradar.soccer/sr/match/5
 618733/tammeka-vs-flora/
URL;VALUE=URI:https://streamradar.soccer/sr/match/5618733/tammeka-vs-flora/
STATUS:CONFIRMED
END:VEVENT
END:VCALENDAR
