BEGIN:VCALENDAR
VERSION:2.0
PRODID:-//StreamRadar//Match Calendar//EN
CALSCALE:GREGORIAN
METHOD:PUBLISH
X-WR-CALNAME:Diamond Harbour vs Sreenidi Deccan
X-WR-TIMEZONE:America/New_York
BEGIN:VEVENT
UID:match-5618718@streamradar.soccer
SUMMARY:Diamond Harbour vs Sreenidi Deccan
DTSTAMP:20260422T120755Z
DTSTART;TZID=America/New_York:20260503T090000
DTEND;TZID=America/New_York:20260503T110000
LOCATION:Naihati Stadium
DESCRIPTION:Gde gledati Diamond Harbour protiv Sreenidi Deccan u takmičenj
 u Indija - I-League. Prenos uživo i TV program.\nhttps://streamradar.socce
 r/sr/match/5618718/diamond-harbour-vs-sreenidi-deccan/
URL;VALUE=URI:https://streamradar.soccer/sr/match/5618718/diamond-harbour-v
 s-sreenidi-deccan/
STATUS:CONFIRMED
END:VEVENT
END:VCALENDAR
