BEGIN:VCALENDAR
VERSION:2.0
PRODID:-//StreamRadar//Match Calendar//EN
CALSCALE:GREGORIAN
METHOD:PUBLISH
X-WR-CALNAME:Al Sharjah vs Al Ain
X-WR-TIMEZONE:America/New_York
BEGIN:VEVENT
UID:match-5618706@streamradar.soccer
SUMMARY:Al Sharjah vs Al Ain
DTSTAMP:20260422T091124Z
DTSTART;TZID=America/New_York:20260506T124500
DTEND;TZID=America/New_York:20260506T144500
DESCRIPTION:Gde gledati Al Sharjah protiv Al Ain u takmičenju Ujedinjeni A
 rapski Emirati - UAE Pro League. Prenos uživo i TV program.\nhttps://strea
 mradar.soccer/sr/match/5618706/al-sharjah-vs-al-ain/
URL;VALUE=URI:https://streamradar.soccer/sr/match/5618706/al-sharjah-vs-al-
 ain/
STATUS:CONFIRMED
END:VEVENT
END:VCALENDAR
