BEGIN:VCALENDAR
VERSION:2.0
PRODID:-//StreamRadar//Match Calendar//EN
CALSCALE:GREGORIAN
METHOD:PUBLISH
X-WR-CALNAME:Al Wahda vs Al Wasl
X-WR-TIMEZONE:America/New_York
BEGIN:VEVENT
UID:match-5618705@streamradar.soccer
SUMMARY:Al Wahda vs Al Wasl
DTSTAMP:20260422T104059Z
DTSTART;TZID=America/New_York:20260506T100500
DTEND;TZID=America/New_York:20260506T120500
DESCRIPTION:Gde gledati Al Wahda protiv Al Wasl u takmičenju Ujedinjeni Ar
 apski Emirati - UAE Pro League. Prenos uživo i TV program.\nhttps://stream
 radar.soccer/sr/match/5618705/al-wahda-vs-al-wasl/
URL;VALUE=URI:https://streamradar.soccer/sr/match/5618705/al-wahda-vs-al-wa
 sl/
STATUS:CONFIRMED
END:VEVENT
END:VCALENDAR
