BEGIN:VCALENDAR
VERSION:2.0
PRODID:-//StreamRadar//Match Calendar//EN
CALSCALE:GREGORIAN
METHOD:PUBLISH
X-WR-CALNAME:Al Ittihad Kalba vs Khor Fakkan
X-WR-TIMEZONE:America/New_York
BEGIN:VEVENT
UID:match-5618704@streamradar.soccer
SUMMARY:Al Ittihad Kalba vs Khor Fakkan
DTSTAMP:20260422T101101Z
DTSTART;TZID=America/New_York:20260505T124500
DTEND;TZID=America/New_York:20260505T144500
DESCRIPTION:Gde gledati Al Ittihad Kalba protiv Khor Fakkan u takmičenju U
 jedinjeni Arapski Emirati - UAE Pro League. Prenos uživo i TV program.\nht
 tps://streamradar.soccer/sr/match/5618704/al-ittihad-kalba-vs-khor-fakkan/
URL;VALUE=URI:https://streamradar.soccer/sr/match/5618704/al-ittihad-kalba-
 vs-khor-fakkan/
STATUS:CONFIRMED
END:VEVENT
END:VCALENDAR
