BEGIN:VCALENDAR
VERSION:2.0
PRODID:-//StreamRadar//Match Calendar//EN
CALSCALE:GREGORIAN
METHOD:PUBLISH
X-WR-CALNAME:CDS Tampico Madero vs CA La Paz
X-WR-TIMEZONE:America/New_York
BEGIN:VEVENT
UID:match-5618486@streamradar.soccer
SUMMARY:CDS Tampico Madero vs CA La Paz
DTSTAMP:20260422T113720Z
DTSTART;TZID=America/New_York:20260422T230000
DTEND;TZID=America/New_York:20260423T010000
LOCATION:Estadio Tamaulipas
DESCRIPTION:Gde gledati CDS Tampico Madero protiv CA La Paz u takmičenju L
 iga de Expansión MX. Prenos uživo i TV program.\nhttps://streamradar.socc
 er/sr/match/5618486/cds-tampico-madero-vs-ca-la-paz/
URL;VALUE=URI:https://streamradar.soccer/sr/match/5618486/cds-tampico-mader
 o-vs-ca-la-paz/
STATUS:CONFIRMED
END:VEVENT
END:VCALENDAR
