BEGIN:VCALENDAR
VERSION:2.0
PRODID:-//StreamRadar//Match Calendar//EN
CALSCALE:GREGORIAN
METHOD:PUBLISH
X-WR-CALNAME:Shabana vs KCB
X-WR-TIMEZONE:America/New_York
BEGIN:VEVENT
UID:match-5618140@streamradar.soccer
SUMMARY:Shabana vs KCB
DTSTAMP:20260421T133500Z
DTSTART;TZID=America/New_York:20260530T080000
DTEND;TZID=America/New_York:20260530T100000
DESCRIPTION:Gde gledati Shabana protiv KCB u takmičenju Kenyan Premier Lea
 gue. Prenos uživo i TV program.\nhttps://streamradar.soccer/sr/match/56181
 40/shabana-vs-kcb/
URL;VALUE=URI:https://streamradar.soccer/sr/match/5618140/shabana-vs-kcb/
STATUS:CONFIRMED
END:VEVENT
END:VCALENDAR
