BEGIN:VCALENDAR
VERSION:2.0
PRODID:-//StreamRadar//Match Calendar//EN
CALSCALE:GREGORIAN
METHOD:PUBLISH
X-WR-CALNAME:Sofapaka vs Shabana
X-WR-TIMEZONE:America/New_York
BEGIN:VEVENT
UID:match-5618131@streamradar.soccer
SUMMARY:Sofapaka vs Shabana
DTSTAMP:20260421T103949Z
DTSTART;TZID=America/New_York:20260523T080000
DTEND;TZID=America/New_York:20260523T100000
DESCRIPTION:Gde gledati Sofapaka protiv Shabana u takmičenju Kenyan Premie
 r League. Prenos uživo i TV program.\nhttps://streamradar.soccer/sr/match/
 5618131/sofapaka-vs-shabana/
URL;VALUE=URI:https://streamradar.soccer/sr/match/5618131/sofapaka-vs-shaba
 na/
STATUS:CONFIRMED
END:VEVENT
END:VCALENDAR
