BEGIN:VCALENDAR
VERSION:2.0
PRODID:-//StreamRadar//Match Calendar//EN
CALSCALE:GREGORIAN
METHOD:PUBLISH
X-WR-CALNAME:Partizan vs Radnik Surdulica
X-WR-TIMEZONE:America/New_York
BEGIN:VEVENT
UID:match-5618115@streamradar.soccer
SUMMARY:Partizan vs Radnik Surdulica
DTSTAMP:20260421T145742Z
DTSTART;TZID=America/New_York:20260523T130000
DTEND;TZID=America/New_York:20260523T150000
LOCATION:Stadion Partizana
DESCRIPTION:Gde gledati Partizan protiv Radnik Surdulica u takmičenju Srbi
 ja - Superliga Srbije. Prenos uživo i TV program.\nhttps://streamradar.soc
 cer/sr/match/5618115/partizan-vs-radnik-surdulica/
URL;VALUE=URI:https://streamradar.soccer/sr/match/5618115/partizan-vs-radni
 k-surdulica/
STATUS:CONFIRMED
END:VEVENT
END:VCALENDAR
