BEGIN:VCALENDAR
VERSION:2.0
PRODID:-//StreamRadar//Match Calendar//EN
CALSCALE:GREGORIAN
METHOD:PUBLISH
X-WR-CALNAME:Manchester United vs Milan
X-WR-TIMEZONE:America/New_York
BEGIN:VEVENT
UID:match-5618109@streamradar.soccer
SUMMARY:Manchester United vs Milan
DTSTAMP:20260423T112059Z
DTSTART;TZID=America/New_York:20260815T080000
DTEND;TZID=America/New_York:20260815T100000
DESCRIPTION:Gde gledati Manchester United protiv Milan u takmičenju Prijat
 eljska utakmica. Prenos uživo i TV program.\nhttps://streamradar.soccer/sr
 /match/5618109/manchester-united-vs-milan/
URL;VALUE=URI:https://streamradar.soccer/sr/match/5618109/manchester-united
 -vs-milan/
STATUS:CONFIRMED
END:VEVENT
END:VCALENDAR
