BEGIN:VCALENDAR
VERSION:2.0
PRODID:-//StreamRadar//Match Calendar//EN
CALSCALE:GREGORIAN
METHOD:PUBLISH
X-WR-CALNAME:Ituzaingó vs Deportivo Laferrere
X-WR-TIMEZONE:America/New_York
BEGIN:VEVENT
UID:match-5618079@streamradar.soccer
SUMMARY:Ituzaingó vs Deportivo Laferrere
DTSTAMP:20260421T085533Z
DTSTART;TZID=America/New_York:20260527T160000
DTEND;TZID=America/New_York:20260527T180000
LOCATION:Estadio Carlos Sacaan
DESCRIPTION:Gde gledati Ituzaingó protiv Deportivo Laferrere u takmičenju
  Argentina - Primera B Metropolitana. Prenos uživo i TV program.\nhttps://
 streamradar.soccer/sr/match/5618079/ituzaingo-vs-deportivo-laferrere/
URL;VALUE=URI:https://streamradar.soccer/sr/match/5618079/ituzaingo-vs-depo
 rtivo-laferrere/
STATUS:CONFIRMED
END:VEVENT
END:VCALENDAR
