BEGIN:VCALENDAR
VERSION:2.0
PRODID:-//StreamRadar//Match Calendar//EN
CALSCALE:GREGORIAN
METHOD:PUBLISH
X-WR-CALNAME:Flandria vs Arsenal
X-WR-TIMEZONE:America/New_York
BEGIN:VEVENT
UID:match-5618078@streamradar.soccer
SUMMARY:Flandria vs Arsenal
DTSTAMP:20260421T101442Z
DTSTART;TZID=America/New_York:20260527T160000
DTEND;TZID=America/New_York:20260527T180000
LOCATION:Estadio Carlos V
DESCRIPTION:Gde gledati Flandria protiv Arsenal u takmičenju Argentina - P
 rimera B Metropolitana. Prenos uživo i TV program.\nhttps://streamradar.so
 ccer/sr/match/5618078/flandria-vs-arsenal/
URL;VALUE=URI:https://streamradar.soccer/sr/match/5618078/flandria-vs-arsen
 al/
STATUS:CONFIRMED
END:VEVENT
END:VCALENDAR
