BEGIN:VCALENDAR
VERSION:2.0
PRODID:-//StreamRadar//Match Calendar//EN
CALSCALE:GREGORIAN
METHOD:PUBLISH
X-WR-CALNAME:Ludogorets vs CSKA Sofia
X-WR-TIMEZONE:America/New_York
BEGIN:VEVENT
UID:match-5618067@streamradar.soccer
SUMMARY:Ludogorets vs CSKA Sofia
DTSTAMP:20260421T114433Z
DTSTART;TZID=America/New_York:20260525T133000
DTEND;TZID=America/New_York:20260525T153000
LOCATION:Huvepharma Arena
DESCRIPTION:Gde gledati Ludogorets protiv CSKA Sofia u takmičenju Bugarska
  - Parva liga. Prenos uživo i TV program.\nhttps://streamradar.soccer/sr/m
 atch/5618067/ludogorets-vs-cska-sofia/
URL;VALUE=URI:https://streamradar.soccer/sr/match/5618067/ludogorets-vs-csk
 a-sofia/
STATUS:CONFIRMED
END:VEVENT
END:VCALENDAR
