BEGIN:VCALENDAR
VERSION:2.0
PRODID:-//StreamRadar//Match Calendar//EN
CALSCALE:GREGORIAN
METHOD:PUBLISH
X-WR-CALNAME:Antwerp vs Westerlo
X-WR-TIMEZONE:America/New_York
BEGIN:VEVENT
UID:match-5618059@streamradar.soccer
SUMMARY:Antwerp vs Westerlo
DTSTAMP:20260421T104002Z
DTSTART;TZID=America/New_York:20260523T144500
DTEND;TZID=America/New_York:20260523T164500
LOCATION:Bosuilstadion
DESCRIPTION:Gde gledati Antwerp protiv Westerlo u takmičenju Belgija - Jup
 iler Pro League. Prenos uživo i TV program.\nhttps://streamradar.soccer/sr
 /match/5618059/antwerp-vs-westerlo/
URL;VALUE=URI:https://streamradar.soccer/sr/match/5618059/antwerp-vs-wester
 lo/
STATUS:CONFIRMED
END:VEVENT
END:VCALENDAR
