BEGIN:VCALENDAR
VERSION:2.0
PRODID:-//StreamRadar//Match Calendar//EN
CALSCALE:GREGORIAN
METHOD:PUBLISH
X-WR-CALNAME:Temperley vs San Martín Tucumán
X-WR-TIMEZONE:America/New_York
BEGIN:VEVENT
UID:match-5618051@streamradar.soccer
SUMMARY:Temperley vs San Martín Tucumán
DTSTAMP:20260421T120512Z
DTSTART;TZID=America/New_York:20260620T160000
DTEND;TZID=America/New_York:20260620T180000
LOCATION:Estadio Alfredo Beranger
DESCRIPTION:Gde gledati Temperley protiv San Martín Tucumán u takmičenju
  Argentina - Primera Nacional. Prenos uživo i TV program.\nhttps://streamr
 adar.soccer/sr/match/5618051/temperley-vs-san-martin-tucuman/
URL;VALUE=URI:https://streamradar.soccer/sr/match/5618051/temperley-vs-san-
 martin-tucuman/
STATUS:CONFIRMED
END:VEVENT
END:VCALENDAR
