BEGIN:VCALENDAR
VERSION:2.0
PRODID:-//StreamRadar//Match Calendar//EN
CALSCALE:GREGORIAN
METHOD:PUBLISH
X-WR-CALNAME:Chaco For Ever vs Colón
X-WR-TIMEZONE:America/New_York
BEGIN:VEVENT
UID:match-5618039@streamradar.soccer
SUMMARY:Chaco For Ever vs Colón
DTSTAMP:20260421T104104Z
DTSTART;TZID=America/New_York:20260620T160000
DTEND;TZID=America/New_York:20260620T180000
LOCATION:Estadio Juan Alberto Garcia
DESCRIPTION:Gde gledati Chaco For Ever protiv Colón u takmičenju Argentin
 a - Primera Nacional. Prenos uživo i TV program.\nhttps://streamradar.socc
 er/sr/match/5618039/chaco-for-ever-vs-colon/
URL;VALUE=URI:https://streamradar.soccer/sr/match/5618039/chaco-for-ever-vs
 -colon/
STATUS:CONFIRMED
END:VEVENT
END:VCALENDAR
