BEGIN:VCALENDAR
VERSION:2.0
PRODID:-//StreamRadar//Match Calendar//EN
CALSCALE:GREGORIAN
METHOD:PUBLISH
X-WR-CALNAME:Real Tomayapo vs Independiente Petrolero
X-WR-TIMEZONE:America/New_York
BEGIN:VEVENT
UID:match-5618023@streamradar.soccer
SUMMARY:Real Tomayapo vs Independiente Petrolero
DTSTAMP:20260421T211038Z
DTSTART;TZID=America/New_York:20260530T200000
DTEND;TZID=America/New_York:20260530T220000
LOCATION:Estadio IV Centenario
DESCRIPTION:Gde gledati Real Tomayapo protiv Independiente Petrolero u takm
 ičenju Bolivija - Primera División. Prenos uživo i TV program.\nhttps://
 streamradar.soccer/sr/match/5618023/real-tomayapo-vs-independiente-petroler
 o/
URL;VALUE=URI:https://streamradar.soccer/sr/match/5618023/real-tomayapo-vs-
 independiente-petrolero/
STATUS:CONFIRMED
END:VEVENT
END:VCALENDAR
