BEGIN:VCALENDAR
VERSION:2.0
PRODID:-//StreamRadar//Match Calendar//EN
CALSCALE:GREGORIAN
METHOD:PUBLISH
X-WR-CALNAME:Palmeiras vs Cerro Porteño
X-WR-TIMEZONE:America/New_York
BEGIN:VEVENT
UID:match-5618006@streamradar.soccer
SUMMARY:Palmeiras vs Cerro Porteño
DTSTAMP:20260421T120504Z
DTSTART;TZID=America/New_York:20260520T203000
DTEND;TZID=America/New_York:20260520T223000
LOCATION:Allianz Parque
DESCRIPTION:Gde gledati Palmeiras protiv Cerro Porteño u takmičenju Copa 
 Libertadores. Prenos uživo i TV program.\nhttps://streamradar.soccer/sr/ma
 tch/5618006/palmeiras-vs-cerro-porteno/
URL;VALUE=URI:https://streamradar.soccer/sr/match/5618006/palmeiras-vs-cerr
 o-porteno/
STATUS:CONFIRMED
END:VEVENT
END:VCALENDAR
