BEGIN:VCALENDAR
VERSION:2.0
PRODID:-//StreamRadar//Match Calendar//EN
CALSCALE:GREGORIAN
METHOD:PUBLISH
X-WR-CALNAME:Grêmio vs Palestino
X-WR-TIMEZONE:America/New_York
BEGIN:VEVENT
UID:match-5617990@streamradar.soccer
SUMMARY:Grêmio vs Palestino
DTSTAMP:20260421T121407Z
DTSTART;TZID=America/New_York:20260520T200000
DTEND;TZID=America/New_York:20260520T220000
DESCRIPTION:Gde gledati Grêmio protiv Palestino u takmičenju Copa Sudamer
 icana. Prenos uživo i TV program.\nhttps://streamradar.soccer/sr/match/561
 7990/gremio-vs-palestino/
URL;VALUE=URI:https://streamradar.soccer/sr/match/5617990/gremio-vs-palesti
 no/
STATUS:CONFIRMED
END:VEVENT
END:VCALENDAR
