BEGIN:VCALENDAR
VERSION:2.0
PRODID:-//StreamRadar//Match Calendar//EN
CALSCALE:GREGORIAN
METHOD:PUBLISH
X-WR-CALNAME:Morocco vs Norway
X-WR-TIMEZONE:America/New_York
BEGIN:VEVENT
UID:match-5617975@streamradar.soccer
SUMMARY:Morocco vs Norway
DTSTAMP:20260421T220338Z
DTSTART;TZID=America/New_York:20260607T150000
DTEND;TZID=America/New_York:20260607T170000
LOCATION:Sports Illustrated Stadium
DESCRIPTION:Gde gledati Morocco protiv Norway u takmičenju Prijateljska ut
 akmica. Prenos uživo i TV program.\nhttps://streamradar.soccer/sr/match/56
 17975/morocco-vs-norway/
URL;VALUE=URI:https://streamradar.soccer/sr/match/5617975/morocco-vs-norway
 /
STATUS:CONFIRMED
END:VEVENT
END:VCALENDAR
