BEGIN:VCALENDAR
VERSION:2.0
PRODID:-//StreamRadar//Match Calendar//EN
CALSCALE:GREGORIAN
METHOD:PUBLISH
X-WR-CALNAME:San Marino vs Bangladesh
X-WR-TIMEZONE:America/New_York
BEGIN:VEVENT
UID:match-5617967@streamradar.soccer
SUMMARY:San Marino vs Bangladesh
DTSTAMP:20260421T155049Z
DTSTART;TZID=America/New_York:20260605T080000
DTEND;TZID=America/New_York:20260605T100000
DESCRIPTION:Gde gledati San Marino protiv Bangladesh u takmičenju Prijatel
 jska utakmica. Prenos uživo i TV program.\nhttps://streamradar.soccer/sr/m
 atch/5617967/san-marino-vs-bangladesh/
URL;VALUE=URI:https://streamradar.soccer/sr/match/5617967/san-marino-vs-ban
 gladesh/
STATUS:CONFIRMED
END:VEVENT
END:VCALENDAR
