BEGIN:VCALENDAR
VERSION:2.0
PRODID:-//StreamRadar//Match Calendar//EN
CALSCALE:GREGORIAN
METHOD:PUBLISH
X-WR-CALNAME:Nigeria vs Zimbabwe
X-WR-TIMEZONE:America/New_York
BEGIN:VEVENT
UID:match-5617958@streamradar.soccer
SUMMARY:Nigeria vs Zimbabwe
DTSTAMP:20260421T135859Z
DTSTART;TZID=America/New_York:20260526T143000
DTEND;TZID=America/New_York:20260526T163000
DESCRIPTION:Gde gledati Nigeria protiv Zimbabwe u takmičenju Prijateljska 
 utakmica. Prenos uživo i TV program.\nhttps://streamradar.soccer/sr/match/
 5617958/nigeria-vs-zimbabwe/
URL;VALUE=URI:https://streamradar.soccer/sr/match/5617958/nigeria-vs-zimbab
 we/
STATUS:CONFIRMED
END:VEVENT
END:VCALENDAR
